BEGIN:VCALENDAR
VERSION:2.0
PRODID:-//wp-events-plugin.com//7.2.3.1//EN
BEGIN:VEVENT
UID:718@keepersaction.nl
DTSTART;TZID=Europe/Amsterdam:20260415T173000
DTEND;TZID=Europe/Amsterdam:20260415T194500
DTSTAMP:20260226T121648Z
URL:https://www.keepersaction.nl/Keeperstraining/leeftijd-7-t-m-10-jaar-tr
 ainingen-keepersschool-arnhem-2026-2026-04-15/
SUMMARY:Trainingen Keepersschool Arnhem 2026
DESCRIPTION:Nieuwe trainingstijden op woensdag!\nOm onze trainingen nóg be
 ter af te stemmen op leeftijd en niveau\, gaan we werken met aangepaste ti
 jden op de woensdagavond.\n 7 t/m 10 jaar: 17:30 – 18:30 uur\n 11 jaa
 r en ouder: 18:30 – 19:45 uur
CATEGORIES:Keepersschool Arnhem
LOCATION:Keepersschool Arnhem\,   De Pas 44\, Arnhem\, Gelderland\, 6836 BK
 \, Midden - Gelderland\, Nederland
X-APPLE-STRUCTURED-LOCATION;VALUE=URI;X-ADDRESS=  De Pas 44\, Arnhem\, Geld
 erland\, 6836 BK\, Midden - Gelderland\, Nederland;X-APPLE-RADIUS=100;X-TI
 TLE=Keepersschool Arnhem:geo:0,0
END:VEVENT
BEGIN:VTIMEZONE
TZID:Europe/Amsterdam
X-LIC-LOCATION:Europe/Amsterdam
BEGIN:DAYLIGHT
DTSTART:20260329T030000
TZOFFSETFROM:+0100
TZOFFSETTO:+0200
TZNAME:CEST
END:DAYLIGHT
END:VTIMEZONE
END:VCALENDAR