BEGIN:VCALENDAR
VERSION:2.0
PRODID:-//wp-events-plugin.com//7.2.3.1//EN
BEGIN:VEVENT
UID:694@keepersaction.nl
DTSTART;TZID=Europe/Amsterdam:20260417T183000
DTEND;TZID=Europe/Amsterdam:20260417T194500
DTSTAMP:20260209T193232Z
URL:https://www.keepersaction.nl/Keeperstraining/cursus-keepersvaardighede
 n-keepersschool-rivierenland-2026-02-27-2026-03-06-2026-03-13-2026-03-20-2
 026-03-27-2026-04-03-2026-04-10-2026-04-17/
SUMMARY:Cursus keepersvaardigheden Keepersschool Rivierenland
DESCRIPTION:
CATEGORIES:Keepersschool Rivierenland
LOCATION:Keepersschool Rivierenland\, De Peel 6\, Beneden Leeuwen\, Gelderl
 and\, 6658 DJ\, Maas en Waal\, Nederland
X-APPLE-STRUCTURED-LOCATION;VALUE=URI;X-ADDRESS=De Peel 6\, Beneden Leeuwen
 \, Gelderland\, 6658 DJ\, Maas en Waal\, Nederland;X-APPLE-RADIUS=100;X-TI
 TLE=Keepersschool Rivierenland:geo:0,0
END:VEVENT
BEGIN:VTIMEZONE
TZID:Europe/Amsterdam
X-LIC-LOCATION:Europe/Amsterdam
BEGIN:DAYLIGHT
DTSTART:20260329T030000
TZOFFSETFROM:+0100
TZOFFSETTO:+0200
TZNAME:CEST
END:DAYLIGHT
END:VTIMEZONE
END:VCALENDAR