BEGIN:VCALENDAR
VERSION:2.0
PRODID:-//wp-events-plugin.com//7.2.3.1//EN
BEGIN:VEVENT
UID:708@keepersaction.nl
DTSTART;TZID=Europe/Amsterdam:20260503T100000
DTEND;TZID=Europe/Amsterdam:20260503T111500
DTSTAMP:20260223T114840Z
URL:https://www.keepersaction.nl/Keeperstraining/17357-2026-05-03/
SUMMARY:Cursus Keepersvaardigheden Keepersschool Zetten
DESCRIPTION:Hallo toekomstige topkeepers! Bij de Keepersaction keepersschoo
 l in Zetten\, bij Excelsior Zetten\, leer je supergave trucs om ballen teg
 en te houden!\n\nMaak nieuwe vrienden\, speel en word een geweldige keeper
 . Doe mee en ontdek de geheimen van keepen!
CATEGORIES:Keepersschool Zetten
LOCATION:Keepersschool Zetten\, Leigraafseweg 7\, Zetten\, Gelderland\, 667
 1 MC\, Betuwe\, Nederland
X-APPLE-STRUCTURED-LOCATION;VALUE=URI;X-ADDRESS=Leigraafseweg 7\, Zetten\, 
 Gelderland\, 6671 MC\, Betuwe\, Nederland;X-APPLE-RADIUS=100;X-TITLE=Keepe
 rsschool Zetten:geo:0,0
END:VEVENT
BEGIN:VTIMEZONE
TZID:Europe/Amsterdam
X-LIC-LOCATION:Europe/Amsterdam
BEGIN:DAYLIGHT
DTSTART:20260329T030000
TZOFFSETFROM:+0100
TZOFFSETTO:+0200
TZNAME:CEST
END:DAYLIGHT
END:VTIMEZONE
END:VCALENDAR